BEGIN:VCALENDAR
VERSION:2.0
PRODID:-//World War One &amp; the Copper Country - ECPv6.15.20//NONSGML v1.0//EN
CALSCALE:GREGORIAN
METHOD:PUBLISH
X-WR-CALNAME:World War One &amp; the Copper Country
X-ORIGINAL-URL:https://ww1cc.mtu.edu
X-WR-CALDESC:Events for World War One &amp; the Copper Country
REFRESH-INTERVAL;VALUE=DURATION:PT1H
X-Robots-Tag:noindex
X-PUBLISHED-TTL:PT1H
BEGIN:VTIMEZONE
TZID:America/Detroit
BEGIN:DAYLIGHT
TZOFFSETFROM:-0500
TZOFFSETTO:-0400
TZNAME:EDT
DTSTART:20170312T070000
END:DAYLIGHT
BEGIN:STANDARD
TZOFFSETFROM:-0400
TZOFFSETTO:-0500
TZNAME:EST
DTSTART:20171105T060000
END:STANDARD
BEGIN:DAYLIGHT
TZOFFSETFROM:-0500
TZOFFSETTO:-0400
TZNAME:EDT
DTSTART:20180311T070000
END:DAYLIGHT
BEGIN:STANDARD
TZOFFSETFROM:-0400
TZOFFSETTO:-0500
TZNAME:EST
DTSTART:20181104T060000
END:STANDARD
BEGIN:DAYLIGHT
TZOFFSETFROM:-0500
TZOFFSETTO:-0400
TZNAME:EDT
DTSTART:20190310T070000
END:DAYLIGHT
BEGIN:STANDARD
TZOFFSETFROM:-0400
TZOFFSETTO:-0500
TZNAME:EST
DTSTART:20191103T060000
END:STANDARD
BEGIN:DAYLIGHT
TZOFFSETFROM:-0500
TZOFFSETTO:-0400
TZNAME:EDT
DTSTART:20200308T070000
END:DAYLIGHT
BEGIN:STANDARD
TZOFFSETFROM:-0400
TZOFFSETTO:-0500
TZNAME:EST
DTSTART:20201101T060000
END:STANDARD
END:VTIMEZONE
BEGIN:VEVENT
DTSTART;TZID=America/Detroit:20181111T110000
DTEND;TZID=America/Detroit:20181111T110000
DTSTAMP:20260419T110915
CREATED:20171201T195427Z
LAST-MODIFIED:20180817T162730Z
UID:164-1541934000-1541934000@ww1cc.mtu.edu
SUMMARY:Trench Closing for Armistice Day
DESCRIPTION:Coordinated event with Michigan Tech ROTC\, JROTC\, and Copper Country VFWs and American Legions (TBD)
URL:https://ww1cc.mtu.edu/event/trench-closing-for-armistice-day/
LOCATION:US-41 and MacInnes Dirve\, MTU\, Townsend Dr.\, Hougnon\, MI\, 49930\, United States
CATEGORIES:Events
END:VEVENT
BEGIN:VEVENT
DTSTART;TZID=America/Detroit:20181106T180000
DTEND;TZID=America/Detroit:20191106T193000
DTSTAMP:20260419T110915
CREATED:20171201T195422Z
LAST-MODIFIED:20181002T122644Z
UID:145-1541527200-1573068600@ww1cc.mtu.edu
SUMMARY:Copper Country Mothers
DESCRIPTION:Please note date change for this event.\nTalk by Dr. Patty Sotirin — Copper Country mothers of sons in military service were critical figures in this area’s participation in the Great War. For these mothers\, the war was a personal challenge but it made them public figures as well. \nFind out more…
URL:https://ww1cc.mtu.edu/event/opening-reception-2/
LOCATION:Carnegie Musuem of Houghton\, 105 Huron Street\, Houghton\, MI\, 49931\, United States
CATEGORIES:Events,Lectures
END:VEVENT
BEGIN:VEVENT
DTSTART;TZID=America/Detroit:20181028T140000
DTEND;TZID=America/Detroit:20181028T180000
DTSTAMP:20260419T110915
CREATED:20171201T195427Z
LAST-MODIFIED:20180817T162935Z
UID:162-1540735200-1540749600@ww1cc.mtu.edu
SUMMARY:WWI Bazaar sponsored by the Carnegie Museum
DESCRIPTION:performance and musical revue including: WWI-era fashion show by Chassell Friends of Fashion; music by Chassell Centennial Choir and Superior Wind Symphony; ÒHello GirlsÓ performance by Lois Sprengnether Keel
URL:https://ww1cc.mtu.edu/event/wwi-bazaar-sponsored-by-the-carnegie-museum/
LOCATION:Dee Stadium Ballroom\, 700 E Lakeshore Dr\, Houghton\, MI\, 49931\, United States
CATEGORIES:Events
END:VEVENT
BEGIN:VEVENT
DTSTART;TZID=America/Detroit:20180928T180000
DTEND;TZID=America/Detroit:20180928T180000
DTSTAMP:20260419T110915
CREATED:20171201T195424Z
LAST-MODIFIED:20180817T191523Z
UID:151-1538157600-1538157600@ww1cc.mtu.edu
SUMMARY:Europe\, America\, and the World: An Outdoor Concert
DESCRIPTION:Outdoor concert featuring the music of Harlem band leader and AEF soldier\, James Reese Europe\, performed by Michigan Tech’s Superior Wind Symphony\, conducted by Dr. Mike Christiansen. \nFind out more…
URL:https://ww1cc.mtu.edu/event/oan-evening-with-james-reese-europeos-musico/
LOCATION:Walker Arts Lawn\, 1400 Townsend Dr\, Houghton\, MI\, 49931\, United States
CATEGORIES:Events
END:VEVENT
END:VCALENDAR